Package: erccdashboard Version: 1.38.0 Command: rm -rf erccdashboard.buildbin-libdir && mkdir erccdashboard.buildbin-libdir && /Users/biocbuild/BBS/utils/build-universal.sh erccdashboard_1.38.0.tar.gz /Library/Frameworks/R.framework/Resources/bin/R erccdashboard.buildbin-libdir StartedAt: 2024-10-18 18:24:56 -0400 (Fri, 18 Oct 2024) EndedAt: 2024-10-18 18:25:09 -0400 (Fri, 18 Oct 2024) EllapsedTime: 12.7 seconds RetCode: 0 Status: OK PackageFile: erccdashboard_1.38.0.tgz PackageFileSize: 2.518 MiB