Package: epivizrStandalone Version: 1.32.0 Command: F:\biocbuild\bbs-3.19-bioc\R\bin\R.exe CMD INSTALL epivizrStandalone StartedAt: 2024-06-26 16:10:55 -0400 (Wed, 26 Jun 2024) EndedAt: 2024-06-26 16:11:53 -0400 (Wed, 26 Jun 2024) EllapsedTime: 57.4 seconds RetCode: 0 Status: OK