Package: epivizrStandalone Version: 1.32.0 Command: rm -rf epivizrStandalone.buildbin-libdir && mkdir epivizrStandalone.buildbin-libdir && F:\biocbuild\bbs-3.19-bioc\R\bin\R.exe CMD INSTALL --build --library=epivizrStandalone.buildbin-libdir epivizrStandalone_1.32.0.tar.gz StartedAt: 2024-06-27 08:11:07 -0400 (Thu, 27 Jun 2024) EndedAt: 2024-06-27 08:12:13 -0400 (Thu, 27 Jun 2024) EllapsedTime: 65.6 seconds RetCode: 0 Status: OK PackageFile: epivizrStandalone_1.32.0.zip PackageFileSize: 254.7 KiB