Package: epivizrStandalone Version: 1.32.0 Command: /home/biocbuild/bbs-3.19-bioc/R/bin/R CMD INSTALL epivizrStandalone StartedAt: 2024-10-16 16:18:58 -0400 (Wed, 16 Oct 2024) EndedAt: 2024-10-16 16:19:39 -0400 (Wed, 16 Oct 2024) EllapsedTime: 41.6 seconds RetCode: 0 Status: OK