Package: epivizrStandalone Version: 1.32.0 Command: /home/biocbuild/bbs-3.19-bioc/R/bin/R CMD build --keep-empty-dirs --no-resave-data epivizrStandalone StartedAt: 2024-10-16 18:25:08 -0400 (Wed, 16 Oct 2024) EndedAt: 2024-10-16 18:25:53 -0400 (Wed, 16 Oct 2024) EllapsedTime: 44.1 seconds RetCode: 0 Status: OK PackageFile: epivizrStandalone_1.32.0.tar.gz PackageFileSize: 220 KiB