Package: epivizrStandalone Version: 1.32.0 Command: /Library/Frameworks/R.framework/Resources/bin/R CMD INSTALL epivizrStandalone StartedAt: 2024-10-16 15:59:58 -0400 (Wed, 16 Oct 2024) EndedAt: 2024-10-16 16:01:32 -0400 (Wed, 16 Oct 2024) EllapsedTime: 94.0 seconds RetCode: 0 Status: OK