Package: epivizrStandalone Version: 1.32.0 Command: /Library/Frameworks/R.framework/Resources/bin/R CMD build --keep-empty-dirs --no-resave-data epivizrStandalone StartedAt: 2024-10-16 19:05:04 -0400 (Wed, 16 Oct 2024) EndedAt: 2024-10-16 19:06:57 -0400 (Wed, 16 Oct 2024) EllapsedTime: 112.4 seconds RetCode: 0 Status: OK PackageFile: epivizrStandalone_1.32.0.tar.gz PackageFileSize: 220.1 KiB