Package: epivizrStandalone Version: 1.32.0 Command: /home/biocbuild/R/R-beta-2024-04-15_r86425/bin/R CMD build --keep-empty-dirs --no-resave-data epivizrStandalone StartedAt: 2024-05-09 00:10:52 -0000 (Thu, 09 May 2024) EndedAt: 2024-05-09 00:11:50 -0000 (Thu, 09 May 2024) EllapsedTime: 58.1 seconds RetCode: 0 Status: OK PackageFile: epivizrStandalone_1.32.0.tar.gz PackageFileSize: 284.8 KiB