Package: epivizrStandalone Version: 1.32.0 Command: rm -rf epivizrStandalone.buildbin-libdir && mkdir epivizrStandalone.buildbin-libdir && /Users/biocbuild/BBS/utils/build-universal.sh epivizrStandalone_1.32.0.tar.gz /Library/Frameworks/R.framework/Resources/bin/R epivizrStandalone.buildbin-libdir StartedAt: 2024-06-11 11:08:42 -0400 (Tue, 11 Jun 2024) EndedAt: 2024-06-11 11:10:18 -0400 (Tue, 11 Jun 2024) EllapsedTime: 96.6 seconds RetCode: 0 Status: OK PackageFile: epivizrStandalone_1.32.0.tgz PackageFileSize: 290.8 KiB