Package: epivizrStandalone Version: 1.32.0 Command: /Library/Frameworks/R.framework/Resources/bin/R CMD INSTALL epivizrStandalone StartedAt: 2024-10-16 17:05:25 -0400 (Wed, 16 Oct 2024) EndedAt: 2024-10-16 17:06:16 -0400 (Wed, 16 Oct 2024) EllapsedTime: 50.9 seconds RetCode: 0 Status: OK