Package: epivizrStandalone Version: 1.32.0 Command: /Library/Frameworks/R.framework/Resources/bin/R CMD check --install=check:epivizrStandalone.install-out.txt --library=/Library/Frameworks/R.framework/Resources/library --no-vignettes --timings epivizrStandalone_1.32.0.tar.gz StartedAt: 2024-10-17 21:07:25 -0400 (Thu, 17 Oct 2024) EndedAt: 2024-10-17 21:13:32 -0400 (Thu, 17 Oct 2024) EllapsedTime: 367.1 seconds RetCode: 0 Status: WARNINGS CheckDir: epivizrStandalone.Rcheck Warnings: 1