Package: epivizrStandalone Version: 1.32.0 Command: /Library/Frameworks/R.framework/Resources/bin/R CMD build --keep-empty-dirs --no-resave-data epivizrStandalone StartedAt: 2024-10-17 00:13:08 -0400 (Thu, 17 Oct 2024) EndedAt: 2024-10-17 00:14:05 -0400 (Thu, 17 Oct 2024) EllapsedTime: 57.0 seconds RetCode: 0 Status: OK PackageFile: epivizrStandalone_1.32.0.tar.gz PackageFileSize: 264.6 KiB