Package: epivizrServer Version: 1.32.0 Command: /home/biocbuild/bbs-3.19-bioc/R/bin/R CMD INSTALL epivizrServer StartedAt: 2024-10-16 15:52:43 -0400 (Wed, 16 Oct 2024) EndedAt: 2024-10-16 15:52:50 -0400 (Wed, 16 Oct 2024) EllapsedTime: 6.5 seconds RetCode: 0 Status: OK