Package: epivizrServer Version: 1.32.0 Maintainer: Hector Corrada Bravo MaintainerEmail: hcorrada at gmail.com git_url: https://git.bioconductor.org/packages/epivizrServer git_branch: RELEASE_3_19 git_last_commit: d436410 git_last_commit_date: 2024-04-30 10:50:47 -0400 (Tue, 30 Apr 2024)