Package: epivizrData Version: 1.32.0 Command: chmod a+r epivizrData -R && E:\biocbuild\bbs-3.19-bioc\R\bin\R.exe CMD build --keep-empty-dirs --no-resave-data epivizrData StartedAt: 2024-10-16 19:01:13 -0400 (Wed, 16 Oct 2024) EndedAt: 2024-10-16 19:02:20 -0400 (Wed, 16 Oct 2024) EllapsedTime: 67.6 seconds RetCode: 0 Status: OK PackageFile: epivizrData_1.32.0.tar.gz PackageFileSize: 243.5 KiB