Package: epivizrData Version: 1.32.0 Command: /Library/Frameworks/R.framework/Resources/bin/R CMD build --keep-empty-dirs --no-resave-data epivizrData StartedAt: 2024-10-16 19:04:32 -0400 (Wed, 16 Oct 2024) EndedAt: 2024-10-16 19:07:07 -0400 (Wed, 16 Oct 2024) EllapsedTime: 154.8 seconds RetCode: 0 Status: OK PackageFile: epivizrData_1.32.0.tar.gz PackageFileSize: 243.3 KiB