Package: epivizrData Version: 1.32.0 Command: /Library/Frameworks/R.framework/Resources/bin/R CMD build --keep-empty-dirs --no-resave-data epivizrData StartedAt: 2024-10-17 00:12:07 -0400 (Thu, 17 Oct 2024) EndedAt: 2024-10-17 00:13:20 -0400 (Thu, 17 Oct 2024) EllapsedTime: 72.8 seconds RetCode: 0 Status: OK PackageFile: epivizrData_1.32.0.tar.gz PackageFileSize: 243.3 KiB