Package: epivizr Version: 2.34.0 Command: chmod a+r epivizr -R && E:\biocbuild\bbs-3.19-bioc\R\bin\R.exe CMD build --keep-empty-dirs --no-resave-data epivizr StartedAt: 2024-10-16 19:00:40 -0400 (Wed, 16 Oct 2024) EndedAt: 2024-10-16 19:02:05 -0400 (Wed, 16 Oct 2024) EllapsedTime: 85.6 seconds RetCode: 0 Status: OK PackageFile: epivizr_2.34.0.tar.gz PackageFileSize: 1.139 MiB