Package: epivizr Version: 2.34.0 Command: chmod a+r epivizr -R && F:\biocbuild\bbs-3.19-bioc\R\bin\R.exe CMD build --keep-empty-dirs --no-resave-data epivizr StartedAt: 2024-06-26 18:41:26 -0400 (Wed, 26 Jun 2024) EndedAt: 2024-06-26 18:42:49 -0400 (Wed, 26 Jun 2024) EllapsedTime: 83.7 seconds RetCode: 0 Status: OK PackageFile: epivizr_2.34.0.tar.gz PackageFileSize: 1.14 MiB