Package: epivizr Version: 2.34.0 Command: /Library/Frameworks/R.framework/Resources/bin/R CMD build --keep-empty-dirs --no-resave-data epivizr StartedAt: 2024-10-16 19:03:53 -0400 (Wed, 16 Oct 2024) EndedAt: 2024-10-16 19:07:00 -0400 (Wed, 16 Oct 2024) EllapsedTime: 187.4 seconds RetCode: 0 Status: OK PackageFile: epivizr_2.34.0.tar.gz PackageFileSize: 1.152 MiB