Package: epivizr Version: 2.34.0 Command: /home/biocbuild/R/R-beta-2024-04-15_r86425/bin/R CMD build --keep-empty-dirs --no-resave-data epivizr StartedAt: 2024-05-09 00:10:03 -0000 (Thu, 09 May 2024) EndedAt: 2024-05-09 00:11:37 -0000 (Thu, 09 May 2024) EllapsedTime: 94.1 seconds RetCode: 0 Status: OK PackageFile: epivizr_2.34.0.tar.gz PackageFileSize: 1.213 MiB