Package: epivizr Version: 2.34.0 Command: /Library/Frameworks/R.framework/Resources/bin/R CMD build --keep-empty-dirs --no-resave-data epivizr StartedAt: 2024-06-09 21:21:03 -0400 (Sun, 09 Jun 2024) EndedAt: 2024-06-09 21:23:11 -0400 (Sun, 09 Jun 2024) EllapsedTime: 127.8 seconds RetCode: 0 Status: OK PackageFile: epivizr_2.34.0.tar.gz PackageFileSize: 1.193 MiB