Package: epivizr Version: 2.34.0 Command: rm -rf epivizr.buildbin-libdir && mkdir epivizr.buildbin-libdir && /Users/biocbuild/BBS/utils/build-universal.sh epivizr_2.34.0.tar.gz /Library/Frameworks/R.framework/Resources/bin/R epivizr.buildbin-libdir StartedAt: 2024-10-18 18:23:56 -0400 (Fri, 18 Oct 2024) EndedAt: 2024-10-18 18:25:00 -0400 (Fri, 18 Oct 2024) EllapsedTime: 64.3 seconds RetCode: 0 Status: OK PackageFile: epivizr_2.34.0.tgz PackageFileSize: 2.035 MiB