Package: epistasisGA Version: 1.6.0 Command: F:\biocbuild\bbs-3.19-bioc\R\bin\R.exe CMD check --no-multiarch --install=check:epistasisGA.install-out.txt --library=F:\biocbuild\bbs-3.19-bioc\R\library --no-vignettes --timings epistasisGA_1.6.0.tar.gz StartedAt: 2024-06-27 01:26:54 -0400 (Thu, 27 Jun 2024) EndedAt: 2024-06-27 01:30:49 -0400 (Thu, 27 Jun 2024) EllapsedTime: 234.5 seconds RetCode: 1 Status: ERROR CheckDir: epistasisGA.Rcheck Warnings: NA