Package: epistasisGA Version: 1.6.0 Command: /home/biocbuild/R/R-beta-2024-04-15_r86425/bin/R CMD build --keep-empty-dirs --no-resave-data epistasisGA StartedAt: 2024-05-09 00:09:26 -0000 (Thu, 09 May 2024) EndedAt: 2024-05-09 00:13:43 -0000 (Thu, 09 May 2024) EllapsedTime: 257.3 seconds RetCode: 0 Status: OK PackageFile: epistasisGA_1.6.0.tar.gz PackageFileSize: 1.687 MiB