Package: epistack Version: 1.10.0 Command: E:\biocbuild\bbs-3.19-bioc\R\bin\R.exe CMD check --no-multiarch --install=check:epistack.install-out.txt --library=E:\biocbuild\bbs-3.19-bioc\R\library --no-vignettes --timings epistack_1.10.0.tar.gz StartedAt: 2024-10-17 01:16:43 -0400 (Thu, 17 Oct 2024) EndedAt: 2024-10-17 01:19:59 -0400 (Thu, 17 Oct 2024) EllapsedTime: 196.0 seconds RetCode: 0 Status: OK CheckDir: epistack.Rcheck Warnings: 0