Package: epistack Version: 1.10.0 Command: chmod a+r epistack -R && E:\biocbuild\bbs-3.19-bioc\R\bin\R.exe CMD build --keep-empty-dirs --no-resave-data epistack StartedAt: 2024-10-16 18:58:03 -0400 (Wed, 16 Oct 2024) EndedAt: 2024-10-16 19:07:36 -0400 (Wed, 16 Oct 2024) EllapsedTime: 572.6 seconds RetCode: 0 Status: OK PackageFile: epistack_1.10.0.tar.gz PackageFileSize: 3.189 MiB