Package: epistack Version: 1.10.0 Command: rm -rf epistack.buildbin-libdir && mkdir epistack.buildbin-libdir && E:\biocbuild\bbs-3.19-bioc\R\bin\R.exe CMD INSTALL --build --library=epistack.buildbin-libdir epistack_1.10.0.tar.gz StartedAt: 2024-10-17 07:45:57 -0400 (Thu, 17 Oct 2024) EndedAt: 2024-10-17 07:46:25 -0400 (Thu, 17 Oct 2024) EllapsedTime: 27.8 seconds RetCode: 0 Status: OK PackageFile: epistack_1.10.0.zip PackageFileSize: 1.416 MiB