Package: epistack Version: 1.10.0 Command: chmod a+r epistack -R && F:\biocbuild\bbs-3.19-bioc\R\bin\R.exe CMD build --keep-empty-dirs --no-resave-data epistack StartedAt: 2024-06-26 18:40:55 -0400 (Wed, 26 Jun 2024) EndedAt: 2024-06-26 18:53:38 -0400 (Wed, 26 Jun 2024) EllapsedTime: 762.9 seconds RetCode: 0 Status: OK PackageFile: epistack_1.10.0.tar.gz PackageFileSize: 3.188 MiB