Package: epistack Version: 1.10.0 Command: rm -rf epistack.buildbin-libdir && mkdir epistack.buildbin-libdir && F:\biocbuild\bbs-3.19-bioc\R\bin\R.exe CMD INSTALL --build --library=epistack.buildbin-libdir epistack_1.10.0.tar.gz StartedAt: 2024-06-27 08:10:49 -0400 (Thu, 27 Jun 2024) EndedAt: 2024-06-27 08:11:19 -0400 (Thu, 27 Jun 2024) EllapsedTime: 30.2 seconds RetCode: 0 Status: OK PackageFile: epistack_1.10.0.zip PackageFileSize: 1.415 MiB