Package: epistack Version: 1.10.0 Command: /home/biocbuild/bbs-3.19-bioc/R/bin/R CMD check --install=check:epistack.install-out.txt --library=/home/biocbuild/bbs-3.19-bioc/R/site-library --timings epistack_1.10.0.tar.gz StartedAt: 2024-10-17 00:11:14 -0400 (Thu, 17 Oct 2024) EndedAt: 2024-10-17 00:17:08 -0400 (Thu, 17 Oct 2024) EllapsedTime: 353.6 seconds RetCode: 0 Status: OK CheckDir: epistack.Rcheck Warnings: 0