Package: epistack Version: 1.10.0 Command: /Library/Frameworks/R.framework/Resources/bin/R CMD build --keep-empty-dirs --no-resave-data epistack StartedAt: 2024-10-16 19:02:56 -0400 (Wed, 16 Oct 2024) EndedAt: 2024-10-16 19:06:56 -0400 (Wed, 16 Oct 2024) EllapsedTime: 239.9 seconds RetCode: 0 Status: OK PackageFile: epistack_1.10.0.tar.gz PackageFileSize: 3.945 MiB