Package: epistack Version: 1.10.0 Command: /Library/Frameworks/R.framework/Resources/bin/R CMD build --keep-empty-dirs --no-resave-data epistack StartedAt: 2024-06-09 21:16:21 -0400 (Sun, 09 Jun 2024) EndedAt: 2024-06-09 21:18:53 -0400 (Sun, 09 Jun 2024) EllapsedTime: 151.7 seconds RetCode: 0 Status: OK PackageFile: epistack_1.10.0.tar.gz PackageFileSize: 3.947 MiB