Package: epiregulon Version: 1.0.1 Command: E:\biocbuild\bbs-3.19-bioc\R\bin\R.exe CMD check --no-multiarch --install=check:epiregulon.install-out.txt --library=E:\biocbuild\bbs-3.19-bioc\R\library --no-vignettes --timings epiregulon_1.0.1.tar.gz StartedAt: 2024-10-17 01:16:24 -0400 (Thu, 17 Oct 2024) EndedAt: 2024-10-17 01:22:00 -0400 (Thu, 17 Oct 2024) EllapsedTime: 336.6 seconds RetCode: 0 Status: OK CheckDir: epiregulon.Rcheck Warnings: 0