Package: epiregulon Version: 1.0.1 Command: chmod a+r epiregulon -R && E:\biocbuild\bbs-3.19-bioc\R\bin\R.exe CMD build --keep-empty-dirs --no-resave-data epiregulon StartedAt: 2024-10-16 18:56:48 -0400 (Wed, 16 Oct 2024) EndedAt: 2024-10-16 19:04:51 -0400 (Wed, 16 Oct 2024) EllapsedTime: 483.4 seconds RetCode: 0 Status: OK PackageFile: epiregulon_1.0.1.tar.gz PackageFileSize: 710.2 KiB