Package: epiregulon Version: 1.0.1 Command: rm -rf epiregulon.buildbin-libdir && mkdir epiregulon.buildbin-libdir && E:\biocbuild\bbs-3.19-bioc\R\bin\R.exe CMD INSTALL --build --library=epiregulon.buildbin-libdir epiregulon_1.0.1.tar.gz StartedAt: 2024-10-17 07:45:34 -0400 (Thu, 17 Oct 2024) EndedAt: 2024-10-17 07:46:38 -0400 (Thu, 17 Oct 2024) EllapsedTime: 63.2 seconds RetCode: 0 Status: OK PackageFile: epiregulon_1.0.1.zip PackageFileSize: 1.143 MiB