Package: epiregulon Version: 1.0.1 Command: /home/biocbuild/bbs-3.19-bioc/R/bin/R CMD check --install=check:epiregulon.install-out.txt --library=/home/biocbuild/bbs-3.19-bioc/R/site-library --timings epiregulon_1.0.1.tar.gz StartedAt: 2024-10-17 00:10:18 -0400 (Thu, 17 Oct 2024) EndedAt: 2024-10-17 00:19:14 -0400 (Thu, 17 Oct 2024) EllapsedTime: 536.0 seconds RetCode: 0 Status: OK CheckDir: epiregulon.Rcheck Warnings: 0