Package: epiregulon Version: 1.0.1 Command: /home/biocbuild/bbs-3.19-bioc/R/bin/R CMD build --keep-empty-dirs --no-resave-data epiregulon StartedAt: 2024-10-16 18:23:01 -0400 (Wed, 16 Oct 2024) EndedAt: 2024-10-16 18:27:23 -0400 (Wed, 16 Oct 2024) EllapsedTime: 261.5 seconds RetCode: 0 Status: OK PackageFile: epiregulon_1.0.1.tar.gz PackageFileSize: 1.163 MiB