Package: epiregulon Version: 1.0.1 Command: /Library/Frameworks/R.framework/Resources/bin/R CMD build --keep-empty-dirs --no-resave-data epiregulon StartedAt: 2024-10-16 19:01:30 -0400 (Wed, 16 Oct 2024) EndedAt: 2024-10-16 19:13:46 -0400 (Wed, 16 Oct 2024) EllapsedTime: 735.8 seconds RetCode: 0 Status: OK PackageFile: epiregulon_1.0.1.tar.gz PackageFileSize: 1.259 MiB