Package: epiregulon Version: 1.0.0 Command: /Library/Frameworks/R.framework/Resources/bin/R CMD INSTALL epiregulon StartedAt: 2024-06-09 15:40:17 -0400 (Sun, 09 Jun 2024) EndedAt: 2024-06-09 15:41:09 -0400 (Sun, 09 Jun 2024) EllapsedTime: 52.0 seconds RetCode: 0 Status: OK