Package: epiregulon Version: 1.0.1 Command: /Library/Frameworks/R.framework/Resources/bin/R CMD check --install=check:epiregulon.install-out.txt --library=/Library/Frameworks/R.framework/Resources/library --no-vignettes --timings epiregulon_1.0.1.tar.gz StartedAt: 2024-10-17 21:02:10 -0400 (Thu, 17 Oct 2024) EndedAt: 2024-10-17 21:07:25 -0400 (Thu, 17 Oct 2024) EllapsedTime: 314.5 seconds RetCode: 0 Status: OK CheckDir: epiregulon.Rcheck Warnings: 0