Package: epiregulon Version: 1.0.1 Command: /Library/Frameworks/R.framework/Resources/bin/R CMD build --keep-empty-dirs --no-resave-data epiregulon StartedAt: 2024-10-17 00:05:40 -0400 (Thu, 17 Oct 2024) EndedAt: 2024-10-17 00:11:13 -0400 (Thu, 17 Oct 2024) EllapsedTime: 333.5 seconds RetCode: 0 Status: OK PackageFile: epiregulon_1.0.1.tar.gz PackageFileSize: 1.274 MiB