Package: epiregulon.extra Version: 1.0.1 Command: chmod a+r epiregulon.extra -R && E:\biocbuild\bbs-3.19-bioc\R\bin\R.exe CMD build --keep-empty-dirs --no-resave-data epiregulon.extra StartedAt: 2024-10-16 18:57:04 -0400 (Wed, 16 Oct 2024) EndedAt: 2024-10-16 19:05:46 -0400 (Wed, 16 Oct 2024) EllapsedTime: 521.8 seconds RetCode: 0 Status: OK PackageFile: epiregulon.extra_1.0.1.tar.gz PackageFileSize: 2.086 MiB