Package: epiregulon.extra Version: 1.0.0 Command: F:\biocbuild\bbs-3.19-bioc\R\bin\R.exe CMD check --no-multiarch --install=check:epiregulon.extra.install-out.txt --library=F:\biocbuild\bbs-3.19-bioc\R\library --no-vignettes --timings epiregulon.extra_1.0.0.tar.gz StartedAt: 2024-06-27 01:25:44 -0400 (Thu, 27 Jun 2024) EndedAt: 2024-06-27 01:30:56 -0400 (Thu, 27 Jun 2024) EllapsedTime: 312.4 seconds RetCode: 0 Status: OK CheckDir: epiregulon.extra.Rcheck Warnings: 0