Package: epiregulon.extra Version: 1.0.0 Command: chmod a+r epiregulon.extra -R && F:\biocbuild\bbs-3.19-bioc\R\bin\R.exe CMD build --keep-empty-dirs --no-resave-data epiregulon.extra StartedAt: 2024-06-26 18:40:31 -0400 (Wed, 26 Jun 2024) EndedAt: 2024-06-26 18:50:16 -0400 (Wed, 26 Jun 2024) EllapsedTime: 585.0 seconds RetCode: 0 Status: OK PackageFile: epiregulon.extra_1.0.0.tar.gz PackageFileSize: 2.097 MiB