Package: epiregulon.extra Version: 1.0.0 Command: rm -rf epiregulon.extra.buildbin-libdir && mkdir epiregulon.extra.buildbin-libdir && F:\biocbuild\bbs-3.19-bioc\R\bin\R.exe CMD INSTALL --build --library=epiregulon.extra.buildbin-libdir epiregulon.extra_1.0.0.tar.gz StartedAt: 2024-06-27 08:10:43 -0400 (Thu, 27 Jun 2024) EndedAt: 2024-06-27 08:11:21 -0400 (Thu, 27 Jun 2024) EllapsedTime: 38.3 seconds RetCode: 0 Status: OK PackageFile: epiregulon.extra_1.0.0.zip PackageFileSize: 2.133 MiB