Package: epiregulon.extra Version: 1.0.1 Command: /Library/Frameworks/R.framework/Resources/bin/R CMD INSTALL epiregulon.extra StartedAt: 2024-10-16 16:38:00 -0400 (Wed, 16 Oct 2024) EndedAt: 2024-10-16 16:39:02 -0400 (Wed, 16 Oct 2024) EllapsedTime: 61.7 seconds RetCode: 0 Status: OK