Package: epiregulon.extra Version: 1.0.1 Command: /Library/Frameworks/R.framework/Resources/bin/R CMD check --install=check:epiregulon.extra.install-out.txt --library=/Library/Frameworks/R.framework/Resources/library --no-vignettes --timings epiregulon.extra_1.0.1.tar.gz StartedAt: 2024-10-17 04:54:06 -0400 (Thu, 17 Oct 2024) EndedAt: 2024-10-17 05:05:13 -0400 (Thu, 17 Oct 2024) EllapsedTime: 667.0 seconds RetCode: 0 Status: OK CheckDir: epiregulon.extra.Rcheck Warnings: 0