Package: epiregulon.extra Version: 1.0.1 Command: /Library/Frameworks/R.framework/Resources/bin/R CMD build --keep-empty-dirs --no-resave-data epiregulon.extra StartedAt: 2024-10-16 19:02:05 -0400 (Wed, 16 Oct 2024) EndedAt: 2024-10-16 19:10:51 -0400 (Wed, 16 Oct 2024) EllapsedTime: 525.2 seconds RetCode: 0 Status: OK PackageFile: epiregulon.extra_1.0.1.tar.gz PackageFileSize: 3.619 MiB