Package: epiregulon.extra Version: 1.0.1 Command: rm -rf epiregulon.extra.buildbin-libdir && mkdir epiregulon.extra.buildbin-libdir && /Users/biocbuild/BBS/utils/build-universal.sh epiregulon.extra_1.0.1.tar.gz /Library/Frameworks/R.framework/Resources/bin/R epiregulon.extra.buildbin-libdir StartedAt: 2024-10-17 16:06:39 -0400 (Thu, 17 Oct 2024) EndedAt: 2024-10-17 16:07:46 -0400 (Thu, 17 Oct 2024) EllapsedTime: 66.5 seconds RetCode: 0 Status: OK PackageFile: epiregulon.extra_1.0.1.tgz PackageFileSize: 3.663 MiB